BEGIN:VCALENDAR
PRODID:-//hacksw/handcal//NONSGML v1.0//EN
VERSION:2.0
METHOD:PUBLISH
BEGIN:VEVENT
DTSTART:20260512T154500Z
DTEND:20260512T170000Z
LOCATION:TBA
UID:2839120260512T154500ZPresentation Topic: TBA
DTSTAMP:20260421T134026Z
DESCRIPTION:\nMeeting Details: TBA\n
SUMMARY:Presentation Topic: TBA - Durham Orange Estate Planning Council 
PRIORITY:3
BEGIN:VALARM
TRIGGER:PT18H
ACTION:DISPLAY
DESCRIPTION:Reminder
END:VALARM
END:VEVENT
END:VCALENDAR